BEGIN:VCALENDAR
VERSION:2.0
PRODID:-//wp-events-plugin.com//7.2.3.1//EN
TZID:Europe/Berlin
X-WR-TIMEZONE:Europe/Berlin
BEGIN:VEVENT
UID:515@asgpolbi.de
DTSTART;TZID=Europe/Berlin:20260216T000000
DTEND;TZID=Europe/Berlin:20260220T000000
DTSTAMP:20260113T084844Z
URL:https://www.asgpolbi.de/events/berlin-als-schnittpunkt-deutscher-gesch
 ichte-und-sozialpolitik-20/
SUMMARY:Berlin als Schnittpunkt deutscher Geschichte und Sozialpolitik
DESCRIPTION:Seminar\nfür politisch interessierte Bürger und Bürgerinnen\
 n(ca. 31 Teilnehmende)\n\nvom 16.-20.02.2026\n\n&nbsp\;\nTeilnahmebeitrag:
 \n€ 475\,00 pro Person im Mehrbettzimmer\n(Doppelzimmer / Dreibettzimmer
 )\n€ 585\,00 pro Person im Einzelzimmer\n\n&nbsp\;\nUnterkunft:\nBest We
 stern Hotel am Spittelmarkt\, Neue Grünstrasse 28\,\n10179 Berlin\n\n&nbs
 p\;\nSeminarleitung:\nMathias Kahl\, Dipl. Betriebswirt\n\n&nbsp\;\nSemina
 rziel:\nBerlin ist als Bundeshauptstadt das politische Zentrum Deutschland
 s\, aber auch Brennpunkt der Deutschen Geschichte. Das Seminar vermittelt 
 deutsche Geschichte an authentischen Orten von der Zeit des Nationalsozial
 ismus über die deutsche Teilung bis zur Wiedervereinigung. Der Schwerpunk
 t des Seminares liegt dabei auf dem Thema Sozialpolitik\, sowohl in der Ge
 genwart wie auch im historischen Kontext. Die Teilnehmenden erfahren in th
 ematischen Führungen und Vorträgen Fakten über die gesetzmäßigen Grun
 dlagen des Sozialstaates. Politische Konzepte der Ausgestaltung des Sozial
 staates sowie Entscheidungsprozesse der politischen Willensbildung werden 
 vermittelt und auf der Ebene der Legislative wie der Exekutive transparent
  gemacht. Dazu besuchen die Teilnehmenden unter anderem den Bundestag\, de
 n Bundesrat und das Bundesministerium für Gesundheit. In Diskussionen mit
  politischen Entscheidungsträgern wie Abgeordneten des Bundestages soll d
 ie Gegenwart und Zukunft der deutschen Sozialpolitik erörtert werden.\nDi
 e Teilnehmenden erhalten Einblick in die Entstehung und Gestaltung von Ges
 etzen zur Ausgestaltung des Sozialstaates und deren Entwicklung im Kontext
  der deutschen Geschichte. Sie sollen Impulse zur Teilnahme an einer öffe
 ntlichen Debatte zur Zukunft der Sozialsysteme erhalten und befähigt werd
 en\, dabei ihre eigene Position differenziert und mit fundiertem Hintergru
 ndwissen zu vertreten.\n\n&nbsp\;\nAnmeldung und Kontakt:\nasg-nord@asgpol
 bi.de
ATTACH;FMTTYPE=image/jpeg:https://www.asgpolbi.de/wp-content/uploads/2018/
 06/berlin-1724742_web.jpg
CATEGORIES:Regionalleitung Nord
LOCATION:Berlin\, Neue Grünstr. 28\, Berlin\, Berlin\, 10179\, Deutschland
GEO:52.509989;13.405557
X-APPLE-STRUCTURED-LOCATION;VALUE=URI;X-ADDRESS=Neue Grünstr. 28\, Berlin\
 , Berlin\, 10179\, Deutschland;X-APPLE-RADIUS=100;X-TITLE=Berlin:geo:52.50
 9989,13.405557
END:VEVENT
BEGIN:VTIMEZONE
TZID:Europe/Berlin
X-LIC-LOCATION:Europe/Berlin
BEGIN:STANDARD
DTSTART:20251026T020000
TZOFFSETFROM:+0200
TZOFFSETTO:+0100
TZNAME:CET
END:STANDARD
END:VTIMEZONE
END:VCALENDAR