BEGIN:VCALENDAR
VERSION:2.0
PRODID:-//wp-events-plugin.com//7.2.3.1//EN
TZID:Europe/Berlin
X-WR-TIMEZONE:Europe/Berlin
BEGIN:VEVENT
UID:516@asgpolbi.de
DTSTART;TZID=Europe/Berlin:20260223T000000
DTEND;TZID=Europe/Berlin:20260227T000000
DTSTAMP:20260119T095531Z
URL:https://www.asgpolbi.de/events/berlin-als-schnittpunkt-deutscher-gesch
 ichte-und-sozialpolitik-21/
SUMMARY:Berlin als Schnittpunkt deutscher Geschichte und Sozialpolitik
DESCRIPTION:Seminar\nfür politisch interessierte Bürger und Bürgerinnen\
 n(ca. 48 Teilnehmende)\n\nvom 23.-27.02.2026\n\n&nbsp\;\nTeilnahmebeitrag:
 \n€ 450\,00 pro Person im Mehrbettzimmer\n(Doppelzimmer / Dreibettzimmer
 )\n€ 560\,00 pro Person im Einzelzimmer\n\n&nbsp\;\nUnterkunft:\nHoliday
  Inn Express Berlin City Centre\, Stresemannstrasse 49\, 10963 Berlin\n\n&
 nbsp\;\nSeminarleitung:\nMathias Kahl\, Dipl. Betriebswirt\n\n&nbsp\;\nSem
 inarziel:\nBerlin ist als Bundeshauptstadt das politische Zentrum Deutschl
 ands\, aber auch Brennpunkt der Deutschen Geschichte. Das Seminar vermitte
 lt deutsche Geschichte an authentischen Orten von der Zeit des Nationalsoz
 ialismus über die deutsche Teilung bis zur Wiedervereinigung. Der Schwerp
 unkt des Seminares liegt dabei auf dem Thema Sozialpolitik\, sowohl in der
  Gegenwart wie auch im historischen Kontext. Die Teilnehmenden erfahren in
  thematischen Führungen und Vorträgen Fakten über die gesetzmäßigen G
 rundlagen des Sozialstaates. Politische Konzepte der Ausgestaltung des Soz
 ialstaates sowie Entscheidungsprozesse der politischen Willensbildung werd
 en vermittelt und auf der Ebene der Legislative wie der Exekutive transpar
 ent gemacht. Dazu besuchen die Teilnehmenden unter anderem den Bundestag\,
  den Bundesrat und das Bundesministerium für Gesundheit. In Diskussionen 
 mit politischen Entscheidungsträgern wie Abgeordneten des Bundestages sol
 l die Gegenwart und Zukunft der deutschen Sozialpolitik erörtert werden.\
 nDie Teilnehmenden erhalten Einblick in die Entstehung und Gestaltung von 
 Gesetzen zur Ausgestaltung des Sozialstaates und deren Entwicklung im Kont
 ext der deutschen Geschichte. Sie sollen Impulse zur Teilnahme an einer ö
 ffentlichen Debatte zur Zukunft der Sozialsysteme erhalten und befähigt w
 erden\, dabei ihre eigene Position differenziert und mit fundiertem Hinter
 grundwissen zu vertreten.\nAnmeldung und Kontakt:\nasg-nord@asgpolbi.de
ATTACH;FMTTYPE=image/jpeg:https://www.asgpolbi.de/wp-content/uploads/2018/
 06/berlin-1724742_web.jpg
CATEGORIES:Regionalleitung Nord
LOCATION:Berlin\, Stresemannstr. 49\, Berlin\, 10963\, Deutschland
GEO:50.785289;6.497478
X-APPLE-STRUCTURED-LOCATION;VALUE=URI;X-ADDRESS=Stresemannstr. 49\, Berlin\
 , 10963\, Deutschland;X-APPLE-RADIUS=100;X-TITLE=Berlin:geo:50.785289,6.49
 7478
END:VEVENT
BEGIN:VTIMEZONE
TZID:Europe/Berlin
X-LIC-LOCATION:Europe/Berlin
BEGIN:STANDARD
DTSTART:20251026T020000
TZOFFSETFROM:+0200
TZOFFSETTO:+0100
TZNAME:CET
END:STANDARD
END:VTIMEZONE
END:VCALENDAR