BEGIN:VCALENDAR
VERSION:2.0
PRODID:-//wp-events-plugin.com//7.2.3.1//EN
TZID:Europe/Berlin
X-WR-TIMEZONE:Europe/Berlin
BEGIN:VEVENT
UID:404@asgpolbi.de
DTSTART;TZID=Europe/Berlin;VALUE=DATE:20231203
DTEND;TZID=Europe/Berlin;VALUE=DATE:20231206
DTSTAMP:20231101T080356Z
URL:https://www.asgpolbi.de/events/der-europaeische-einigungsprozess-und-s
 eine-soziale-ausgestaltung-6/
SUMMARY:Der europäische Einigungsprozess und seine soziale Ausgestaltung
DESCRIPTION:Seminar\nfür politisch interessierte Bürger und Bürgerinnen\
 n(30 Teilnehmende)\n\n&nbsp\;\n\nTeilnahmebeitrag:\n€ 170 im DZ/ € 250
  im EZ\n\nÜberweisung der Teilnehmergebühr bis 10.11.2023\nauf das Konto
  der Arbeitsgemeinschaft Staat und Gesellschaft e.V.\,\nIBAN: DE51 2605 12
 60 0000 1553 33\, BIC: NOLADE21DUD\n(Sparkasse Duderstadt)\nVerwendungszwe
 ck: „Brüssel 03.-05.12.“\n\nUnterkunft:\nHotel Bedford\, rue du Midi 
 135-137\, 1000 Brüssel\nSeminarleitung:\nDr. Kai Dreisbach\, Köln\nSemin
 arziel:\nDas Seminar soll in Brüssel\, dem Sitz der Europäischen Kommiss
 ion und des Europäischen Parlaments\, über den Stand und die zukünftige
  Entwicklung der Europäischen Union informieren. Dabei wird vor allem die
  beabsichtigte Angleichung der Lebensverhältnisse\, speziell auf dem Gebi
 et der Gesundheitsversorgung im Mittelpunkt stehen. In diesem Kontext soll
 en auch Grundlagen der historischen Entwicklung\, der Organisation\, des A
 ufbaus und der Arbeitsweise der wichtigsten Europäischen Institutionen ve
 rmittelt werden. Beim Besuch der im Programm ausgewiesenen Einrichtungen u
 nd Institutionen werden die Teilnehmer in einem Mix aus Vorträgen\, Disku
 ssions- und Fragerunden einen Überblick über den aktuellen Planungs- und
  Entscheidungsstand innerhalb der jeweiligen Einrichtungen informiert. Ebe
 nso wird ihnen ein Ausblick auf neue Konzepte und Strategien vermittelt.\n
 Die Teilnehmenden sollen in die Lage versetzt werden vorhandene Kenntnisse
  zu erweitern\, am öffentlichen und fachlichen Diskus über Fragen europ
 äischer und internationaler Politik aktiv partizipieren und dabei ihre ei
 gene Position differenziert vertreten zu können.\nDie Veranstaltung richt
 et sich vor allem an Angestellte und Selbständige aus Heil- und Pflegeber
 ufen\, Erzieher und Studierende\, die sich bereits mit dieser Thematik aus
 einandergesetzt haben. Darüber hinaus steht das Seminar bei Interesse gru
 ndsätzlich auch allen politisch interessierten Bürgern und Bürgerinnen 
 offen.
ATTACH;FMTTYPE=image/jpeg:https://www.asgpolbi.de/wp-content/uploads/2018/
 06/eu-1232430_1920_web.jpg
CATEGORIES:Regionalleitung West - asg-Bildungswerk NRW
LOCATION:Brüssel\, Square des Héros 2-4\, Brüssel\, 1180\, Belgien
GEO:50.8036975;4.342396600000029
X-APPLE-STRUCTURED-LOCATION;VALUE=URI;X-ADDRESS=Square des Héros 2-4\, Br
 üssel\, 1180\, Belgien;X-APPLE-RADIUS=100;X-TITLE=Brüssel:geo:50.8036975
 ,4.342396600000029
END:VEVENT
BEGIN:VTIMEZONE
TZID:Europe/Berlin
X-LIC-LOCATION:Europe/Berlin
BEGIN:STANDARD
DTSTART:20231029T020000
TZOFFSETFROM:+0200
TZOFFSETTO:+0100
TZNAME:CET
END:STANDARD
END:VTIMEZONE
END:VCALENDAR