BEGIN:VCALENDAR
VERSION:2.0
PRODID:-//wp-events-plugin.com//7.2.3.1//EN
TZID:Europe/Berlin
X-WR-TIMEZONE:Europe/Berlin
BEGIN:VEVENT
UID:514@asgpolbi.de
DTSTART;TZID=Europe/Berlin:20260104T000000
DTEND;TZID=Europe/Berlin:20260106T000000
DTSTAMP:20251205T092934Z
URL:https://www.asgpolbi.de/events/die-zukunft-der-sozialsysteme-12/
SUMMARY:Die Zukunft der Sozialsysteme
DESCRIPTION:Seminar\nfür politisch interessierte Bürger und Bürgerinnen\
 n(ca. 57 Teilnehmende)\n\nvom 04. - 06.01.2026 in Berlin\n\nTeilnahmebeitr
 ag:\n€ 200 im DZ/ € 275 im EZ\n\nFür die Teilnahme an dem Seminar ist
  die Überweisung des Teilnehmerbeitrags bis zum 20.12.25 (Zahlungseingang
 ) notwendig:\n\nArbeitsgemeinschaft Staat und Gesellschaft e.V.\,\nIBAN: D
 E51 2605 1260 0000 1553 33\, BIC: NOLADE21DUD\n(Sparkasse Duderstadt)\nVer
 wendungszweck: „Berlin 04.-06.01.“\n\nUnterkunft:\nHoliday Inn Express
  Berlin City Centre\, Stresemannstraße 49\, 10963 Berlin\n\n&nbsp\;\nSemi
 narleitung:\nStefan Glau\, Berlin\, abgeschlossenes Studium der Pflegewiss
 enschaften\n\nSeminarziel:\nDeutschland ist ein Sozialstaat - so ist es im
 mer wieder in den Medien zu lesen und zu sehen. Allerdings wachsen die Zwe
 ifel – die öffentliche Debatte über die Zukunft des Sozialstaats ist v
 or allem geprägt durch eine Fokussierung auf Gefährdungen und Herausford
 erungen für die sozialen Sicherungssysteme. Die Folgen des demographische
 n Wandels\, von Migration und Einwanderung\, von Globalisierung\, einer zu
 nehmenden Ökonomisierung der Sozialen Arbeit sowie vermeintlicher Mängel
  bei Ausbildung\, Entlohnung und Arbeitsbedingungen setzen die sozialen Si
 cherungssysteme unter Druck und wecken Sorgen hinsichtlich der Zukunft des
  Sozialstaats.\n\nVor diesem Hintergrund soll das Seminar politische Konze
 pte der Ausgestaltung des Sozialstaates zur Diskussion stellen und Entsche
 idungsprozesse der politischen Willensbildung auf der Ebene der Exekutive 
 und Legislative transparent machen. Die gegenwärtige Sozialpolitik soll i
 n den Kontext der geschichtlichen Entwicklung der Sozialgesetzgebung Deuts
 chland gestellt werden. Davon ausgehend werden die Zukunftsperspektiven de
 s Sozialstaates diskutiert. Welchen Einfluss haben demographische Entwickl
 ungen und die Veränderungen auf dem Arbeitsmarkt auf die Versorgung im Al
 ter? Wie können dem drohenden Pflegenotstand und dem finanziellen Kollaps
  des Gesundheitswesens begegnet werden? Auf welche Weise können der zuneh
 mende Ökonomisierungsdruck und ethische Verantwortung innerhalb der Sozia
 len Arbeit in Einklang gebracht werden? Welche Ausbildungskonzepte werden 
 den sich verändernden Anforderungen gerecht und wie können die Beschäft
 igungsverhältnisse attraktiver und sozialverträglicher ausgestaltet werd
 en? Welche Akteure bestimmen die Ausgestaltung der Gesundheits- und Sozial
 politik? Welche Rolle spielen die Wohlfahrtsverbände in Deutschland und w
 ie wird sich diese zukünftig entwickeln? Wie zukunftsfähig ist das Syste
 m der Bundesrepublik und wo steht es im Vergleich mit anderen Modellen von
  Wohlfahrtsstaaten?\n\nDiese und weitere Fragen sollen im Rahmen von Vortr
 ägen und Gesprächen mit Politikern\, Fachleuten und „Praktikern“ in 
 der Bundeshauptstadt Berlin diskutiert werden. Das Seminar soll somit eine
 n Beitrag zu einer öffentlichen Debatte über die Zukunft der Sozialsyste
 me leisten. Die Teilnehmenden sollen in die Lage versetzt werden vorhanden
 e Kenntnisse zu erweitern\, am öffentlichen und fachlichen Diskus über s
 ozialpolitische Fragen aktiv partizipieren und dabei ihre eigene Position 
 differenziert vertreten zu können. Die Veranstaltung richtet sich vor all
 em an Angestellte und Selbständige aus den Sozialen Berufen sowie Pädago
 gen und Studierende\, die sich bereits mit dieser Thematik auseinandergese
 tzt haben. Darüber hinaus steht das Seminar grundsätzlich auch allen pol
 itisch interessierten Bürgern und Bürgerinnen offen.\n\n&nbsp\;\nAnmeldu
 ng und Kontakt:\nasg-west@asgpolbi.de\n\n&nbsp\;
ATTACH;FMTTYPE=image/jpeg:https://www.asgpolbi.de/wp-content/uploads/2018/
 06/berlin-1724742_web.jpg
CATEGORIES:Regionalleitung West - asg-Bildungswerk NRW
LOCATION:Berlin\, Stresemannstr. 49\, Berlin\, 10963\, Deutschland
GEO:52.501858;13.385197
X-APPLE-STRUCTURED-LOCATION;VALUE=URI;X-ADDRESS=Stresemannstr. 49\, Berlin\
 , 10963\, Deutschland;X-APPLE-RADIUS=100;X-TITLE=Berlin:geo:52.501858,13.3
 85197
END:VEVENT
BEGIN:VTIMEZONE
TZID:Europe/Berlin
X-LIC-LOCATION:Europe/Berlin
BEGIN:STANDARD
DTSTART:20251026T020000
TZOFFSETFROM:+0200
TZOFFSETTO:+0100
TZNAME:CET
END:STANDARD
END:VTIMEZONE
END:VCALENDAR